BEGIN:VCALENDAR
VERSION:2.0
PRODID:SchoolNow
CALSCALE:GREGORIAN
BEGIN:VEVENT
UID:37a9ab0a-aa08-11ec-b25d-0e25638e00b9
DTSTAMP:20220323T211245Z
SUMMARY:CCMS Theatre - The Unbearable Liteness of Being Teen\,  A full leng
 th comedy - March 25th and 26th
LOCATION:Canon City Middle School
URL;VALUE=URI:https://www.canoncityschools.org/calendar/3139788/ccms-theatr
 e-the-unbearable-liteness-of-being-teen-a-full-length-comedy-march-25th-an
 d-26th
DTSTART:20220322T170000Z
DTEND:20220327T010000Z
END:VEVENT
END:VCALENDAR
