BEGIN:VCALENDAR
VERSION:2.0
PRODID:SchoolNow
CALSCALE:GREGORIAN
BEGIN:VEVENT
UID:c9a891a6-aa08-11ec-9406-0e25638e00b9
DTSTAMP:20250924T202209Z
SUMMARY:Dinner and Jazz Fundraiser and Silent Auction
URL;VALUE=URI:https://www.canoncityschools.org/calendar/3139796/dinner-and-
 jazz-fundraiser-and-silent-auction
DTSTART:20220422T175100Z
DTEND:20220422T185100Z
END:VEVENT
END:VCALENDAR
