BEGIN:VCALENDAR
VERSION:2.0
PRODID:SchoolNow
CALSCALE:GREGORIAN
BEGIN:VEVENT
UID:c4afba44-6c24-11f0-b326-0a58a9feac02
DTSTAMP:20260419T094007Z
SUMMARY:Board of Education meeting
LOCATION:101 N 14th St\, Cañon City\, CO 81212\, USA
URL;VALUE=URI:https://www.canoncityschools.org/calendar/8454155/board-of-ed
 ucation-meeting
DTSTART:20270322T233000Z
DTEND:20270323T003000Z
END:VEVENT
END:VCALENDAR
