BEGIN:VCALENDAR
VERSION:2.0
PRODID:SchoolNow
CALSCALE:GREGORIAN
BEGIN:VEVENT
UID:048bd2e2-9e3e-11f0-93af-025a6f4aeecd
DTSTAMP:20260419T094007Z
SUMMARY:Board of Education meeting
LOCATION:101 N 14th St\, Cañon City\, CO 81212\, USA
URL;VALUE=URI:https://www.canoncityschools.org/calendar/8681592/board-of-ed
 ucation-meeting
DTSTART:20270426T233000Z
DTEND:20270427T003000Z
END:VEVENT
END:VCALENDAR
