BEGIN:VCALENDAR
VERSION:2.0
PRODID:SchoolNow
CALSCALE:GREGORIAN
BEGIN:VEVENT
UID:94d52498-b59a-11f0-9aa2-0afffd0cc117
DTSTAMP:20260419T154514Z
SUMMARY:Board of Education meeting
LOCATION:101 N 14th St\, Cañon City\, CO 81212\, USA
URL;VALUE=URI:https://www.canoncityschools.org/calendar/8761485/board-of-ed
 ucation-meeting
DTSTART:20270628T233000Z
DTEND:20270629T003000Z
END:VEVENT
END:VCALENDAR
