BEGIN:VCALENDAR
VERSION:2.0
PRODID:SchoolNow
CALSCALE:GREGORIAN
BEGIN:VEVENT
UID:c7753ee4-e068-11f0-8d1a-0a58a9feac02
DTSTAMP:20260419T154514Z
SUMMARY:Board of Education meeting
LOCATION:101 N 14th St\, Cañon City\, CO 81212\, USA
URL;VALUE=URI:https://www.canoncityschools.org/calendar/8827149/board-of-ed
 ucation-meeting
DTSTART:20270823T233000Z
DTEND:20270824T003000Z
END:VEVENT
END:VCALENDAR
