BEGIN:VCALENDAR
VERSION:2.0
PRODID:SchoolNow
CALSCALE:GREGORIAN
BEGIN:VEVENT
UID:f101c230-f0f0-11f0-bfac-0e5159aaefcd
DTSTAMP:20260419T154514Z
SUMMARY:Board of Education meeting
LOCATION:101 N 14th St\, Cañon City\, CO 81212\, USA
URL;VALUE=URI:https://www.canoncityschools.org/calendar/8835999/board-of-ed
 ucation-meeting
DTSTART:20270913T233000Z
DTEND:20270914T003000Z
END:VEVENT
END:VCALENDAR
