BEGIN:VCALENDAR
VERSION:2.0
PRODID:SchoolNow
CALSCALE:GREGORIAN
BEGIN:VEVENT
UID:229d898e-06d9-11f1-b030-0affe14fa111
DTSTAMP:20260419T094007Z
SUMMARY:KINDER BUDDY DAY
URL;VALUE=URI:https://www.canoncityschools.org/calendar/8852762/kinder-budd
 y-day
DTSTART;VALUE=DATE:20270506
DTEND;VALUE=DATE:20270507
END:VEVENT
END:VCALENDAR
