BEGIN:VCALENDAR
VERSION:2.0
PRODID:SchoolNow
CALSCALE:GREGORIAN
BEGIN:VEVENT
UID:229da900-06d9-11f1-b6b8-0affe14fa111
DTSTAMP:20260419T094007Z
SUMMARY:LAST DAY - 1/2 DAY STUDENTS
URL;VALUE=URI:https://www.canoncityschools.org/calendar/8852778/last-day-1-
 2-day-students
DTSTART;VALUE=DATE:20270520
DTEND;VALUE=DATE:20270521
END:VEVENT
END:VCALENDAR
