BEGIN:VCALENDAR
VERSION:2.0
PRODID:SchoolNow
CALSCALE:GREGORIAN
BEGIN:VEVENT
UID:229dadce-06d9-11f1-bf94-0affe14fa111
DTSTAMP:20260419T094007Z
SUMMARY:SPRING BREAK
URL;VALUE=URI:https://www.canoncityschools.org/calendar/8852781/spring-brea
 k
DTSTART;VALUE=DATE:20270315
DTEND;VALUE=DATE:20270320
END:VEVENT
END:VCALENDAR
