BEGIN:VCALENDAR
VERSION:2.0
PRODID:SchoolNow
CALSCALE:GREGORIAN
BEGIN:VEVENT
UID:229daf54-06d9-11f1-985b-0affe14fa111
DTSTAMP:20260419T094007Z
SUMMARY:START OF 4TH QUARTER
URL;VALUE=URI:https://www.canoncityschools.org/calendar/8852782/start-of-4t
 h-quarter
DTSTART;VALUE=DATE:20270322
DTEND;VALUE=DATE:20270323
END:VEVENT
END:VCALENDAR
