BEGIN:VCALENDAR
VERSION:2.0
PRODID:SchoolNow
CALSCALE:GREGORIAN
BEGIN:VEVENT
UID:229db436-06d9-11f1-b7f7-0affe14fa111
DTSTAMP:20260419T094007Z
SUMMARY:KINDERGARTEN ROUND-UP
URL;VALUE=URI:https://www.canoncityschools.org/calendar/8852785/kindergarte
 n-round-up
DTSTART;VALUE=DATE:20270420
DTEND;VALUE=DATE:20270422
END:VEVENT
END:VCALENDAR
