BEGIN:VCALENDAR
VERSION:2.0
PRODID:SchoolNow
CALSCALE:GREGORIAN
BEGIN:VEVENT
UID:229dc70a-06d9-11f1-a681-0affe14fa111
DTSTAMP:20260419T094007Z
SUMMARY:END 3RD QUARTER
URL;VALUE=URI:https://www.canoncityschools.org/calendar/8852795/end-3rd-qua
 rter
DTSTART;VALUE=DATE:20270311
DTEND;VALUE=DATE:20270312
END:VEVENT
END:VCALENDAR
