BEGIN:VCALENDAR
VERSION:2.0
PRODID:SchoolNow
CALSCALE:GREGORIAN
BEGIN:VEVENT
UID:22cc97ce-06d9-11f1-84f1-0affe14fa111
DTSTAMP:20260419T094007Z
SUMMARY:NO SCHOOL - STAFF REPORT
URL;VALUE=URI:https://www.canoncityschools.org/calendar/8852809/no-school-s
 taff-report
DTSTART;VALUE=DATE:20270312
DTEND;VALUE=DATE:20270313
END:VEVENT
END:VCALENDAR
