BEGIN:VCALENDAR
VERSION:2.0
PRODID:SchoolNow
CALSCALE:GREGORIAN
BEGIN:VEVENT
UID:22cc995e-06d9-11f1-bb88-0affe14fa111
DTSTAMP:20260419T094007Z
SUMMARY:NO SCHOOL
URL;VALUE=URI:https://www.canoncityschools.org/calendar/8852810/no-school
DTSTART;VALUE=DATE:20270402
DTEND;VALUE=DATE:20270403
END:VEVENT
END:VCALENDAR
