BEGIN:VCALENDAR
VERSION:2.0
PRODID:SchoolNow
CALSCALE:GREGORIAN
BEGIN:VEVENT
UID:22cc9c88-06d9-11f1-b5c5-0affe14fa111
DTSTAMP:20260419T094007Z
SUMMARY:NO SCHOOL
URL;VALUE=URI:https://www.canoncityschools.org/calendar/8852812/no-school
DTSTART;VALUE=DATE:20270430
DTEND;VALUE=DATE:20270501
END:VEVENT
END:VCALENDAR
