BEGIN:VCALENDAR
VERSION:2.0
PRODID:SchoolNow
CALSCALE:GREGORIAN
BEGIN:VEVENT
UID:22cc9e22-06d9-11f1-a06c-0affe14fa111
DTSTAMP:20260419T094007Z
SUMMARY:NO SCHOOL
URL;VALUE=URI:https://www.canoncityschools.org/calendar/8852813/no-school
DTSTART;VALUE=DATE:20270514
DTEND;VALUE=DATE:20270515
END:VEVENT
END:VCALENDAR
