BEGIN:VCALENDAR
VERSION:2.0
PRODID:SchoolNow
CALSCALE:GREGORIAN
BEGIN:VEVENT
UID:8a789674-2651-11f1-8f32-0a58a9feac02
DTSTAMP:20260419T215008Z
SUMMARY:Board of Education meeting
LOCATION:101 N 14th St\, Cañon City\, CO 81212\, USA
URL;VALUE=URI:https://www.canoncityschools.org/calendar/8938379/board-of-ed
 ucation-meeting
DTSTART:20271123T003000Z
DTEND:20271123T013000Z
END:VEVENT
END:VCALENDAR
