BEGIN:VCALENDAR
VERSION:2.0
PRODID:SchoolNow
CALSCALE:GREGORIAN
BEGIN:VEVENT
UID:782f1504-27b6-11f1-90e0-0a58a9feac02
DTSTAMP:20260419T094007Z
SUMMARY:CCHS Graduation (HS staff report)
URL;VALUE=URI:https://www.canoncityschools.org/calendar/8942881/cchs-gradua
 tion-hs-staff-report
DTSTART;VALUE=DATE:20270512
DTEND;VALUE=DATE:20270513
END:VEVENT
END:VCALENDAR
