BEGIN:VCALENDAR
VERSION:2.0
PRODID:SchoolNow
CALSCALE:GREGORIAN
BEGIN:VEVENT
UID:aaa46940-37a5-11f1-8cb2-0affdef8d175
DTSTAMP:20260419T215008Z
SUMMARY:Board of Education meeting
LOCATION:101 N 14th St\, Cañon City\, CO 81212\, USA
URL;VALUE=URI:https://www.canoncityschools.org/calendar/8992195/board-of-ed
 ucation-meeting
DTSTART:20271214T003000Z
DTEND:20271214T013000Z
END:VEVENT
END:VCALENDAR
