BEGIN:VCALENDAR
VERSION:2.0
PRODID:SchoolNow
CALSCALE:GREGORIAN
BEGIN:VEVENT
UID:e4ae8c68-aaed-11ec-ac1b-0ec84cd82f4b
DTSTAMP:20220323T211206Z
SUMMARY:CCMS Theatre - The Unbearable Liteness of Being Teen\, A full lengt
 h comedy - March 25th and 26th
URL;VALUE=URI:https://www.canoncityschools.org/schools/ccms/calendar/314077
 3/ccms-theatre-the-unbearable-liteness-of-being-teen-a-full-length-comedy-
 march-25th-and-26th
DTSTART:20220325T211100Z
DTEND:20220327T010900Z
END:VEVENT
END:VCALENDAR
