BEGIN:VCALENDAR
VERSION:2.0
PRODID:SchoolNow
CALSCALE:GREGORIAN
BEGIN:VEVENT
UID:208962f8-9e56-11f0-b3aa-0a58a9feac02
DTSTAMP:20251216T154217Z
SUMMARY:Board of Education meeting
LOCATION:101 N 14th St\, Cañon City\, CO 81212\, USA
URL;VALUE=URI:https://www.canoncityschools.org/schools/ccms/calendar/868186
 3/board-of-education-meeting
DTSTART:20270524T233000Z
DTEND:20270525T003000Z
END:VEVENT
END:VCALENDAR
