BEGIN:VCALENDAR
VERSION:2.0
PRODID:SchoolNow
CALSCALE:GREGORIAN
BEGIN:VEVENT
UID:8058f342-b5bc-11f0-8f2d-02f81e33c5a3
DTSTAMP:20251216T154217Z
SUMMARY:Board of Education meeting
LOCATION:101 N 14th St\, Cañon City\, CO 81212\, USA
URL;VALUE=URI:https://www.canoncityschools.org/schools/ccms/calendar/876173
 8/board-of-education-meeting
DTSTART:20270614T233000Z
DTEND:20270615T003000Z
END:VEVENT
END:VCALENDAR
