BEGIN:VCALENDAR
VERSION:2.0
PRODID:SchoolNow
CALSCALE:GREGORIAN
BEGIN:VEVENT
UID:b1114014-cb3f-11f0-80cb-0a58a9feac02
DTSTAMP:20251216T154217Z
SUMMARY:Board of Education meeting
LOCATION:101 N 14th St\, Cañon City\, CO 81212\, USA
URL;VALUE=URI:https://www.canoncityschools.org/schools/ccms/calendar/881070
 6/board-of-education-meeting
DTSTART:20270726T233000Z
DTEND:20270727T003000Z
END:VEVENT
END:VCALENDAR
