BEGIN:VCALENDAR
VERSION:2.0
PRODID:SchoolNow
CALSCALE:GREGORIAN
BEGIN:VEVENT
UID:bb55211a-359b-11f0-867e-0227d16cad09
DTSTAMP:20250520T165902Z
SUMMARY:Free Sports Physicals at St. Thomas More Hospital July 16 for grade
 s 6th thru 12th
LOCATION:1338 Phay Ave\, Building D
URL;VALUE=URI:https://www.canoncityschools.org/schools/harrison/calendar/81
 69788/free-sports-physicals-at-st-thomas-more-hospital-july-16-for-grades-
 6th-thru-12th
DTSTART:20250716T150000Z
DTEND:20250716T210000Z
END:VEVENT
END:VCALENDAR
