BEGIN:VCALENDAR
VERSION:2.0
PRODID:SchoolNow
CALSCALE:GREGORIAN
BEGIN:VEVENT
UID:5e6425da-3bdd-11f0-aa37-0e161f2a8b9b
DTSTAMP:20250812T165334Z
SUMMARY:Harrison Fall Pictures- Students & Staff
URL;VALUE=URI:https://www.canoncityschools.org/schools/harrison/calendar/82
 15048/fall-pictures-students-staff
DTSTART:20250909T140000Z
DTEND:20250909T180000Z
END:VEVENT
END:VCALENDAR
