BEGIN:VCALENDAR
VERSION:2.0
PRODID:SchoolNow
CALSCALE:GREGORIAN
BEGIN:VEVENT
UID:81b171c8-3bdd-11f0-ba23-0a58a9feac02
DTSTAMP:20250528T160459Z
SUMMARY:No School
URL;VALUE=URI:https://www.canoncityschools.org/schools/harrison/calendar/82
 15049/no-school
DTSTART;VALUE=DATE:20250912
DTEND;VALUE=DATE:20250913
END:VEVENT
END:VCALENDAR
