BEGIN:VCALENDAR
VERSION:2.0
PRODID:SchoolNow
CALSCALE:GREGORIAN
BEGIN:VEVENT
UID:a89269b4-3bdd-11f0-a583-0eb905e51b7d
DTSTAMP:20250528T160605Z
SUMMARY:No School
URL;VALUE=URI:https://www.canoncityschools.org/schools/harrison/calendar/82
 15050/no-school
DTSTART;VALUE=DATE:20250926
DTEND;VALUE=DATE:20250927
END:VEVENT
END:VCALENDAR
