BEGIN:VCALENDAR
VERSION:2.0
PRODID:SchoolNow
CALSCALE:GREGORIAN
BEGIN:VEVENT
UID:df6262e8-3be5-11f0-a197-0a58a9feac02
DTSTAMP:20250528T170452Z
SUMMARY:No School- Labor Day
URL;VALUE=URI:https://www.canoncityschools.org/schools/harrison/calendar/82
 15111/no-school-labor-day
DTSTART;VALUE=DATE:20250901
DTEND;VALUE=DATE:20250902
END:VEVENT
END:VCALENDAR
