BEGIN:VCALENDAR
VERSION:2.0
PRODID:SchoolNow
CALSCALE:GREGORIAN
BEGIN:VEVENT
UID:0893cbf0-3be8-11f0-acb6-023b6e08e957
DTSTAMP:20250528T172021Z
SUMMARY:Grades 6th and 9th Only-  1/2 Day Orientation
URL;VALUE=URI:https://www.canoncityschools.org/schools/harrison/calendar/82
 15115/grades-6th-and-9th-only-1-2-day-orientation
DTSTART:20250814T134500Z
DTEND:20250814T171500Z
END:VEVENT
END:VCALENDAR
