BEGIN:VCALENDAR
VERSION:2.0
PRODID:SchoolNow
CALSCALE:GREGORIAN
BEGIN:VEVENT
UID:8ee9ae1c-3be9-11f0-a7ee-0eb905e51b7d
DTSTAMP:20250528T173115Z
SUMMARY:First Day of School- 1/2 Day Elementary ( 11:15am dismissal) Full D
 ay Grades 6th-9th
URL;VALUE=URI:https://www.canoncityschools.org/schools/harrison/calendar/82
 15206/first-day-of-school-1-2-day-elementary-11-15am-dismissal-full-day-gr
 ades-6th-9th
DTSTART:20250815T134500Z
DTEND:20250815T211500Z
END:VEVENT
END:VCALENDAR
