BEGIN:VCALENDAR
VERSION:2.0
PRODID:SchoolNow
CALSCALE:GREGORIAN
BEGIN:VEVENT
UID:d6de3a9e-3be9-11f0-b7ef-0a58a9feac02
DTSTAMP:20250528T173316Z
SUMMARY:All Grades k-12 Report for Full Day
URL;VALUE=URI:https://www.canoncityschools.org/schools/harrison/calendar/82
 15207/all-grades-k-12-report-for-full-day
DTSTART:20250818T134500Z
DTEND:20250818T211500Z
END:VEVENT
END:VCALENDAR
