BEGIN:VCALENDAR
VERSION:2.0
PRODID:SchoolNow
CALSCALE:GREGORIAN
BEGIN:VEVENT
UID:9df152b2-3c06-11f0-a1d0-023b6e08e957
DTSTAMP:20250528T205916Z
SUMMARY:Board of Education Meeting
LOCATION:Administration Building 101 N. 14th St\, Canon City\, CO
URL;VALUE=URI:https://www.canoncityschools.org/schools/harrison/calendar/82
 16690/board-of-education-meeting
DTSTART:20250623T233000Z
DTEND:20250624T003000Z
END:VEVENT
END:VCALENDAR
