BEGIN:VCALENDAR
VERSION:2.0
PRODID:SchoolNow
CALSCALE:GREGORIAN
BEGIN:VEVENT
UID:1092d610-3c07-11f0-8ca2-0a58a9feac02
DTSTAMP:20250528T210228Z
SUMMARY:Board of Education Meeting
LOCATION:Administration Building 101 N. 14th St\, Canon CIty
URL;VALUE=URI:https://www.canoncityschools.org/schools/harrison/calendar/82
 16691/board-of-education-meeting
DTSTART:20250714T233000Z
DTEND:20250715T003000Z
END:VEVENT
END:VCALENDAR
