BEGIN:VCALENDAR
VERSION:2.0
PRODID:SchoolNow
CALSCALE:GREGORIAN
BEGIN:VEVENT
UID:4884828a-3c07-11f0-b2f7-0eb905e51b7d
DTSTAMP:20250528T210402Z
SUMMARY:Board of Education Meeting
LOCATION:Canon City Schools Administration Building  101 N. 14th St\, Canon
  City
URL;VALUE=URI:https://www.canoncityschools.org/schools/harrison/calendar/82
 16692/board-of-education-meeting
DTSTART:20250728T233000Z
DTEND:20250729T003000Z
END:VEVENT
END:VCALENDAR
