BEGIN:VCALENDAR
VERSION:2.0
PRODID:SchoolNow
CALSCALE:GREGORIAN
BEGIN:VEVENT
UID:8d98e352-3c07-11f0-8781-0ebf031402d3
DTSTAMP:20250717T174152Z
SUMMARY:Onsite Registration
LOCATION:920 Field Ave
URL;VALUE=URI:https://www.canoncityschools.org/schools/harrison/calendar/82
 16693/onsite-registration
DTSTART;VALUE=DATE:20250729
DTEND;VALUE=DATE:20250731
END:VEVENT
END:VCALENDAR
