BEGIN:VCALENDAR
VERSION:2.0
PRODID:SchoolNow
CALSCALE:GREGORIAN
BEGIN:VEVENT
UID:a90880de-3c07-11f0-ba4e-0affeeccff39
DTSTAMP:20250717T174249Z
SUMMARY:Onsite Registration
LOCATION:920 Field Ave\, Canon City
URL;VALUE=URI:https://www.canoncityschools.org/schools/harrison/calendar/82
 16694/onsite-registration
DTSTART;VALUE=DATE:20250730
DTEND;VALUE=DATE:20250731
END:VEVENT
END:VCALENDAR
