BEGIN:VCALENDAR
VERSION:2.0
PRODID:SchoolNow
CALSCALE:GREGORIAN
BEGIN:VEVENT
UID:d7052654-3c07-11f0-869e-0ebf031402d3
DTSTAMP:20250717T174314Z
SUMMARY:Onsite Registration
LOCATION:Harrison k-8  920 Field Ave\, Canon City
URL;VALUE=URI:https://www.canoncityschools.org/schools/harrison/calendar/82
 16695/onsite-registration
DTSTART:20250731T170000Z
DTEND:20250801T010000Z
END:VEVENT
END:VCALENDAR
