BEGIN:VCALENDAR
VERSION:2.0
PRODID:SchoolNow
CALSCALE:GREGORIAN
BEGIN:VEVENT
UID:99eee5e2-6caa-11f0-b9f4-0a58a9feac02
DTSTAMP:20250729T183403Z
SUMMARY:Elementary School Supply Drop Off  For Grades 1st-5th
LOCATION:920 Field Ave Canon City\, CO
URL;VALUE=URI:https://www.canoncityschools.org/schools/harrison/calendar/84
 55795/elementary-school-supply-drop-off-for-grades-1st-5th
DTSTART:20250813T230000Z
DTEND:20250814T000000Z
END:VEVENT
END:VCALENDAR
