BEGIN:VCALENDAR
VERSION:2.0
PRODID:SchoolNow
CALSCALE:GREGORIAN
BEGIN:VEVENT
UID:4ced370c-6cab-11f0-8944-0affca91faff
DTSTAMP:20250729T183903Z
SUMMARY:Volleyball Open Gym  Grades 6th -8th Harrison & MVCK
LOCATION:Harrison k-8 920 Field Ave
URL;VALUE=URI:https://www.canoncityschools.org/schools/harrison/calendar/84
 55800/volleyball-open-gym-grades-6th-8th-harrison-mvck
DTSTART:20250730T010000Z
DTEND:20250730T030000Z
END:VEVENT
END:VCALENDAR
