BEGIN:VCALENDAR
VERSION:2.0
PRODID:SchoolNow
CALSCALE:GREGORIAN
BEGIN:VEVENT
UID:a5922e6c-6cab-11f0-9774-0a58a9feac02
DTSTAMP:20250729T184132Z
SUMMARY:Harrison Volleyball Open Gym grades 6th-8th-Harrison & MVCK athlete
 s
URL;VALUE=URI:https://www.canoncityschools.org/schools/harrison/calendar/84
 55803/harrison-volleyball-open-gym-grades-6th-8th-harrison-mvck-athletes
DTSTART:20250731T010000Z
DTEND:20250731T030000Z
END:VEVENT
END:VCALENDAR
