BEGIN:VCALENDAR
VERSION:2.0
PRODID:SchoolNow
CALSCALE:GREGORIAN
BEGIN:VEVENT
UID:74060614-6cb7-11f0-b161-0eeef5b311df
DTSTAMP:20250729T200838Z
SUMMARY:Harrison Volleyball Open Gym grades 6th-8th   Harrison and MVCK ath
 letes
LOCATION:Harrison k-8 School
URL;VALUE=URI:https://www.canoncityschools.org/schools/harrison/calendar/84
 55937/harrison-volleyball-open-gym-grades-6th-8th-harrison-and-mvck-athlet
 es
DTSTART:20250801T010000Z
DTEND:20250801T030000Z
END:VEVENT
END:VCALENDAR
