BEGIN:VCALENDAR
VERSION:2.0
PRODID:SchoolNow
CALSCALE:GREGORIAN
BEGIN:VEVENT
UID:5a73cd18-6cca-11f0-a984-0a58a9feac02
DTSTAMP:20250729T222120Z
SUMMARY:Harrison Volleyball Open Gym grades 6th-8th   Harrison/MVCK Athlete
 s
LOCATION:Harrison k-8
URL;VALUE=URI:https://www.canoncityschools.org/schools/harrison/calendar/84
 56637/harrison-volleyball-open-gym-grades-6th-8th-harrison-mvck-athletes
DTSTART:20250805T010000Z
DTEND:20250805T030000Z
END:VEVENT
END:VCALENDAR
