BEGIN:VCALENDAR
VERSION:2.0
PRODID:SchoolNow
CALSCALE:GREGORIAN
BEGIN:VEVENT
UID:b023b09a-779a-11f0-acbb-02a999df172f
DTSTAMP:20250812T165213Z
SUMMARY:Harrison Volleyball at Florence Jr/Sr High School
LOCATION:2006 CO-67\, Florence\, CO 81226
URL;VALUE=URI:https://www.canoncityschools.org/schools/harrison/calendar/84
 94534/volleyball-at-florence-jr-sr-high-school
DTSTART:20250903T220000Z
DTEND:20250904T010000Z
END:VEVENT
END:VCALENDAR
