BEGIN:VCALENDAR
VERSION:2.0
PRODID:SchoolNow
CALSCALE:GREGORIAN
BEGIN:VEVENT
UID:2bd52bce-779b-11f0-8da0-0affeaa60e11
DTSTAMP:20250908T203758Z
SUMMARY:Harrison Volleyball at Woodland Park MS
LOCATION:155 Panther Way\, Woodland Park\, CO 80863
URL;VALUE=URI:https://www.canoncityschools.org/schools/harrison/calendar/84
 94538/volleyball-at-woodland-park-ms
DTSTART:20250908T223000Z
DTEND:20250909T013000Z
END:VEVENT
END:VCALENDAR
