BEGIN:VCALENDAR
VERSION:2.0
PRODID:SchoolNow
CALSCALE:GREGORIAN
BEGIN:VEVENT
UID:87ce7ce6-779b-11f0-a91c-02aca8e1564d
DTSTAMP:20250812T165241Z
SUMMARY:Harrison Volleyball at Buena Vista MS
LOCATION:549 S Railroad St\, Buena Vista\, CO 81211
URL;VALUE=URI:https://www.canoncityschools.org/schools/harrison/calendar/84
 94543/volleyball-at-buena-vista-ms
DTSTART:20250910T220000Z
DTEND:20250911T010000Z
END:VEVENT
END:VCALENDAR
