BEGIN:VCALENDAR
VERSION:2.0
PRODID:SchoolNow
CALSCALE:GREGORIAN
BEGIN:VEVENT
UID:e97dd694-779b-11f0-b71b-0a58a9feac02
DTSTAMP:20250812T165254Z
SUMMARY:Harrison Volleyball at CCMS
LOCATION:1215 MAIN ST CANON CITY\, CO 81212.
URL;VALUE=URI:https://www.canoncityschools.org/schools/harrison/calendar/84
 94546/volleyball-at-ccms
DTSTART:20250915T220000Z
DTEND:20250916T010000Z
END:VEVENT
END:VCALENDAR
