BEGIN:VCALENDAR
VERSION:2.0
PRODID:SchoolNow
CALSCALE:GREGORIAN
BEGIN:VEVENT
UID:2b148f26-779c-11f0-8a80-0a58a9feac02
DTSTAMP:20250812T165308Z
SUMMARY:Harrison Volleyball hosts Salida MS
LOCATION:920 Field Ave\, Cañon City\, CO 81212
URL;VALUE=URI:https://www.canoncityschools.org/schools/harrison/calendar/84
 94548/volleyball-hosts-salida-ms
DTSTART:20250917T220000Z
DTEND:20250918T010000Z
END:VEVENT
END:VCALENDAR
