BEGIN:VCALENDAR
VERSION:2.0
PRODID:SchoolNow
CALSCALE:GREGORIAN
BEGIN:VEVENT
UID:75d05572-779c-11f0-b796-0affeaa60e11
DTSTAMP:20250812T165320Z
SUMMARY:Harrison Volleyball hosts Florence Jr/Sr HS
LOCATION:920 Field Ave\, Cañon City\, CO 81212
URL;VALUE=URI:https://www.canoncityschools.org/schools/harrison/calendar/84
 94553/volleyball-hosts-florence-jr-sr-hs
DTSTART:20250922T220000Z
DTEND:20250923T010000Z
END:VEVENT
END:VCALENDAR
