BEGIN:VCALENDAR
VERSION:2.0
PRODID:SchoolNow
CALSCALE:GREGORIAN
BEGIN:VEVENT
UID:a4bd39c2-779c-11f0-88ab-0e05a2fca2ed
DTSTAMP:20250812T165151Z
SUMMARY:Harrison Volleyball hosts Woodland Park
LOCATION:920 Field Ave\, Cañon City\, CO 81212
URL;VALUE=URI:https://www.canoncityschools.org/schools/harrison/calendar/84
 94555/harrison-volleyball-hosts-woodland-park
DTSTART:20250924T220000Z
DTEND:20250925T010000Z
END:VEVENT
END:VCALENDAR
